BEGIN:VCALENDAR
VERSION:2.0
PRODID:-//Jesus P.Hontoria Caballo - ECPv6.15.18//NONSGML v1.0//EN
CALSCALE:GREGORIAN
METHOD:PUBLISH
X-ORIGINAL-URL:https://www.jesuspedrohontoriacaballo.es
X-WR-CALDESC:Eventos para Jesus P.Hontoria Caballo
REFRESH-INTERVAL;VALUE=DURATION:PT1H
X-Robots-Tag:noindex
X-PUBLISHED-TTL:PT1H
BEGIN:VTIMEZONE
TZID:UTC
BEGIN:STANDARD
TZOFFSETFROM:+0000
TZOFFSETTO:+0000
TZNAME:UTC
DTSTART:20230101T000000
END:STANDARD
END:VTIMEZONE
BEGIN:VEVENT
DTSTART;TZID=UTC:20241018T170000
DTEND;TZID=UTC:20241018T200000
DTSTAMP:20260424T175156
CREATED:20241006T173718Z
LAST-MODIFIED:20241006T173718Z
UID:1843-1729270800-1729281600@www.jesuspedrohontoriacaballo.es
SUMMARY:Feria del libro de Getafe
DESCRIPTION:
URL:https://www.jesuspedrohontoriacaballo.es/eventos/feria-del-libro-de-getafe-2/
LOCATION:Plaza de Pedro Cid – Getafe\, Plaza de Pedro Cid\, Getafe\, Madrid\, Spain
END:VEVENT
BEGIN:VEVENT
DTSTART;TZID=UTC:20241016T170000
DTEND;TZID=UTC:20241016T210000
DTSTAMP:20260424T175156
CREATED:20241006T174004Z
LAST-MODIFIED:20241006T174004Z
UID:1847-1729098000-1729112400@www.jesuspedrohontoriacaballo.es
SUMMARY:Feria del libro de Getafe
DESCRIPTION:
URL:https://www.jesuspedrohontoriacaballo.es/eventos/feria-del-libro-de-getafe-4/
LOCATION:Plaza de Pedro Cid – Getafe\, Plaza de Pedro Cid\, Getafe\, Madrid\, Spain
END:VEVENT
BEGIN:VEVENT
DTSTART;VALUE=DATE:20241015
DTEND;VALUE=DATE:20241016
DTSTAMP:20260424T175156
CREATED:20241006T173617Z
LAST-MODIFIED:20241006T173617Z
UID:1841-1728950400-1729036799@www.jesuspedrohontoriacaballo.es
SUMMARY:Feria del libro de Getafe
DESCRIPTION:
URL:https://www.jesuspedrohontoriacaballo.es/eventos/feria-del-libro-de-getafe/
LOCATION:Plaza de Pedro Cid – Getafe\, Plaza de Pedro Cid\, Getafe\, Madrid\, Spain
END:VEVENT
BEGIN:VEVENT
DTSTART;TZID=UTC:20241014T103000
DTEND;TZID=UTC:20241014T160000
DTSTAMP:20260424T175156
CREATED:20241006T173848Z
LAST-MODIFIED:20241006T173848Z
UID:1845-1728901800-1728921600@www.jesuspedrohontoriacaballo.es
SUMMARY:Feria del libro de Getafe
DESCRIPTION:
URL:https://www.jesuspedrohontoriacaballo.es/eventos/feria-del-libro-de-getafe-3/
LOCATION:Plaza de Pedro Cid – Getafe\, Plaza de Pedro Cid\, Getafe\, Madrid\, Spain
END:VEVENT
BEGIN:VEVENT
DTSTART;TZID=UTC:20241013T110000
DTEND;TZID=UTC:20241013T210000
DTSTAMP:20260424T175156
CREATED:20240924T125707Z
LAST-MODIFIED:20240924T130857Z
UID:1818-1728817200-1728853200@www.jesuspedrohontoriacaballo.es
SUMMARY:Feria del libro Centro comercial X-Madrid
DESCRIPTION:
URL:https://www.jesuspedrohontoriacaballo.es/eventos/feria-del-libro-centro-comercial-x-madrid/
LOCATION:X-Madrid – Alcorcón\, Calle Oslo\,53\, Alcorcón\, Madrid\, 28922\, España
ATTACH;FMTTYPE=image/jpeg:https://www.jesuspedrohontoriacaballo.es/wp-content/uploads/2024/09/WhatsApp-Image-2024-09-21-at-22.53.20.jpeg
END:VEVENT
BEGIN:VEVENT
DTSTART;TZID=UTC:20241012T170000
DTEND;TZID=UTC:20241012T200000
DTSTAMP:20260424T175156
CREATED:20241002T070146Z
LAST-MODIFIED:20241002T070146Z
UID:1837-1728752400-1728763200@www.jesuspedrohontoriacaballo.es
SUMMARY:Feria del libro de Toledo
DESCRIPTION:
URL:https://www.jesuspedrohontoriacaballo.es/eventos/feria-del-libro-de-toledo/
LOCATION:Plaza de Zocodover – Toledo\, Plaza de Zocodover\, Toledo\, Toledo\, Spain
END:VEVENT
BEGIN:VEVENT
DTSTART;TZID=UTC:20240629T103000
DTEND;TZID=UTC:20240629T211500
DTSTAMP:20260424T175156
CREATED:20240624T111805Z
LAST-MODIFIED:20240624T111839Z
UID:1744-1719657000-1719695700@www.jesuspedrohontoriacaballo.es
SUMMARY:Firma de Libros en Navaluenga
DESCRIPTION:¿Conocéis Navaluenga? Es un pueblo precioso de Ávila\, está en plena Sierra de Gredos\, y este fin de semana el Ayuntamiento de Navaluenga organiza su Feria del Libro 2024. Pues\, allí estaré\, junto con otros compañeros de Océanos de Tinta\, el próximo sábado 29 de junio\, desde las 10:30 hasta las 21:15 h.\nSerá un fin de semana increíble\, seguro. ¿Te animas?
URL:https://www.jesuspedrohontoriacaballo.es/eventos/firma-de-libros-en-navaluenga/
LOCATION:Polideportivo Francisco Mancebo – Navaluenga\, Calle Juan XXIII\,9-11\, Navaluenga\, Ávila\, 05100\, España
END:VEVENT
BEGIN:VEVENT
DTSTART;VALUE=DATE:20240623
DTEND;VALUE=DATE:20240624
DTSTAMP:20260424T175156
CREATED:20240622T075826Z
LAST-MODIFIED:20240622T075826Z
UID:1734-1719100800-1719187199@www.jesuspedrohontoriacaballo.es
SUMMARY:Firma de libros en X-Madrid
DESCRIPTION:El 23 de junio\, en el Centro Comercial X-Madrid de Alcorcón\, junto a la Asociación Corazón Literario estaré firmando libros durante todo el día. Estaremos en la Planta 1 Zona B5.¡Os espero!
URL:https://www.jesuspedrohontoriacaballo.es/eventos/firma-de-libros-en-x-madrid/
LOCATION:X-Madrid – Alcorcón\, Calle Oslo\,53\, Alcorcón\, Madrid\, 28922\, España
END:VEVENT
BEGIN:VEVENT
DTSTART;TZID=UTC:20240616T110000
DTEND;TZID=UTC:20240616T140000
DTSTAMP:20260424T175156
CREATED:20240613T074323Z
LAST-MODIFIED:20240613T074355Z
UID:1723-1718535600-1718546400@www.jesuspedrohontoriacaballo.es
SUMMARY:Firma de libros en Alcobendas
DESCRIPTION:Qué alegría me da contaros que vuelvo a firmar el próximo domingo 16 en #Alcobendas \, estará con la Asociación Corazón Literario de 11 a 14 h. en el Paseo del Arte.\nEspero veros por allí. ¡Un abrazo a tod@s!
URL:https://www.jesuspedrohontoriacaballo.es/eventos/firma-de-libros-en-alcobendas-2/
LOCATION:Rosaleda del parque Arroyo de la Vega – Alcobendas\, Rosaleda del parque Arroyo de la Vega\, Alcobendas\, Madrid\, 28108\, España
CATEGORIES:General
END:VEVENT
BEGIN:VEVENT
DTSTART;TZID=UTC:20240610T170000
DTEND;TZID=UTC:20240611T210000
DTSTAMP:20260424T175156
CREATED:20240523T164822Z
LAST-MODIFIED:20240527T054715Z
UID:1703-1718038800-1718139600@www.jesuspedrohontoriacaballo.es
SUMMARY:FIRMA DE LIBROS EN SAN FERNANDO DE HENARES
DESCRIPTION:Estaré en la caseta de Océanos de Tinta. Como siempre será un placer y una alegría veros por allí.
URL:https://www.jesuspedrohontoriacaballo.es/eventos/firma-de-libros-en-san-fernando-de-henares-2/
LOCATION:Plaza Fernando VI – San Fernando de Henares\, Plaza de Fernando VI\, San fernando de henares\, Madrid\, 28830\, España
END:VEVENT
BEGIN:VEVENT
DTSTART;TZID=UTC:20240606T170000
DTEND;TZID=UTC:20240606T210000
DTSTAMP:20260424T175156
CREATED:20240523T164725Z
LAST-MODIFIED:20240527T054731Z
UID:1701-1717693200-1717707600@www.jesuspedrohontoriacaballo.es
SUMMARY:FIRMA DE LIBROS EN SAN FERNANDO DE HENARES
DESCRIPTION:Estaré en la caseta de Océanos de Tinta. Como siempre será un placer y una alegría veros por allí.
URL:https://www.jesuspedrohontoriacaballo.es/eventos/firma-de-libros-en-san-fernando-de-henares/
LOCATION:Plaza Fernando VI – San Fernando de Henares\, Plaza de Fernando VI\, San fernando de henares\, Madrid\, 28830\, España
END:VEVENT
BEGIN:VEVENT
DTSTART;TZID=UTC:20240601T100000
DTEND;TZID=UTC:20240616T210000
DTSTAMP:20260424T175156
CREATED:20240324T165105Z
LAST-MODIFIED:20240324T165105Z
UID:1624-1717236000-1718571600@www.jesuspedrohontoriacaballo.es
SUMMARY:FERIA DEL LIBRO SAN FERNANDO DE HENARES
DESCRIPTION:* Se realizara una parada de 14:00 a 17:00
URL:https://www.jesuspedrohontoriacaballo.es/eventos/feria-del-libro-san-fernando-de-henares/
LOCATION:Plaza Fernando VI – San Fernando de Henares\, Plaza de Fernando VI\, San fernando de henares\, Madrid\, 28830\, España
CATEGORIES:General
END:VEVENT
BEGIN:VEVENT
DTSTART;TZID=UTC:20240525T170000
DTEND;TZID=UTC:20240525T210000
DTSTAMP:20260424T175156
CREATED:20240514T073116Z
LAST-MODIFIED:20240514T073305Z
UID:1698-1716656400-1716670800@www.jesuspedrohontoriacaballo.es
SUMMARY:FIRMA DE LIBROS EN LA FERIA DEL LIBRO DE VALLECAS
DESCRIPTION:Estaré firmando libros el sábado 25 de Mayo\, en la caseta Nº1 de la «Asociación Océanos de Tinta»\, de 17 a 21 h.
URL:https://www.jesuspedrohontoriacaballo.es/eventos/firma-de-libros-en-la-feria-del-libro-de-vallecas/
LOCATION:Bulevar Peña Gorbea – Puente de vallecas\, Calle de peña gorbea\, Puente de vallecas\, Madrid\, 28053\, España
ATTACH;FMTTYPE=image/jpeg:https://www.jesuspedrohontoriacaballo.es/wp-content/uploads/2024/05/Feria_Vallecas_2024_Caseta1_Jesus_Hontoria.jpeg
END:VEVENT
BEGIN:VEVENT
DTSTART;TZID=UTC:20240510T100000
DTEND;TZID=UTC:20240526T210000
DTSTAMP:20260424T175156
CREATED:20240324T164835Z
LAST-MODIFIED:20240514T072938Z
UID:1618-1715335200-1716757200@www.jesuspedrohontoriacaballo.es
SUMMARY:FERIA DEL LIBRO DE VALLECAS
DESCRIPTION:Estaré firmando libros el sábado 25 de Mayo\, en la caseta Nº1 de la «Asociación Océanos de Tinta»\, de 17 a 21 h. \n* Se realizara una parada de 14:00 a 17:00
URL:https://www.jesuspedrohontoriacaballo.es/eventos/feria-del-libro-de-vallecas/
LOCATION:Bulevar Peña Gorbea – Puente de vallecas\, Calle de peña gorbea\, Puente de vallecas\, Madrid\, 28053\, España
CATEGORIES:General
END:VEVENT
BEGIN:VEVENT
DTSTART;VALUE=DATE:20240509
DTEND;VALUE=DATE:20240513
DTSTAMP:20260424T175156
CREATED:20240501T080037Z
LAST-MODIFIED:20240505T205550Z
UID:1668-1715212800-1715558399@www.jesuspedrohontoriacaballo.es
SUMMARY:FERIA DEL LIBRO DE TRES CANTOS
DESCRIPTION:Estaré firmando libros el domingo día 12\, en la caseta de la «Asociación Océanos de Tinta»\, de 17 a 19 h. \nLa Feria del Libro se encuentra a lo largo de la Avda. de Colmenar\, entre la plaza de Antonio Gala y la oficina de Correos\, muy cerca de la Biblioteca Municipal Fundación Caja Madrid.
URL:https://www.jesuspedrohontoriacaballo.es/eventos/feria-del-libro-de-tres-cantos/
LOCATION:Avenida del Colmenar – Tres cantos\, Avenida del colmenar\, Tres cantos\, 28760\, España
END:VEVENT
BEGIN:VEVENT
DTSTART;TZID=UTC:20240428T110000
DTEND;TZID=UTC:20240428T150000
DTSTAMP:20260424T175156
CREATED:20240402T171048Z
LAST-MODIFIED:20240402T171116Z
UID:1629-1714302000-1714316400@www.jesuspedrohontoriacaballo.es
SUMMARY:FIRMA DE LIBROS AJALVIR
DESCRIPTION:Estaré en la caseta N8 firmando los ejemplares de mis libros en la Feria del libro de Ajalvir
URL:https://www.jesuspedrohontoriacaballo.es/eventos/firma-de-libros/
LOCATION:Madrid
CATEGORIES:Particular
END:VEVENT
BEGIN:VEVENT
DTSTART;TZID=UTC:20240427T100000
DTEND;TZID=UTC:20240428T210000
DTSTAMP:20260424T175156
CREATED:20240324T140614Z
LAST-MODIFIED:20240402T170229Z
UID:1609-1714212000-1714338000@www.jesuspedrohontoriacaballo.es
SUMMARY:FERIA DEL LIBRO AJALVIR
DESCRIPTION:Caseta N8. \n* Se realizara una parada de 14:00 a 17:00
URL:https://www.jesuspedrohontoriacaballo.es/eventos/feria-del-libro-ajalvir/
LOCATION:Madrid
CATEGORIES:General
END:VEVENT
BEGIN:VEVENT
DTSTART;TZID=UTC:20240419T170000
DTEND;TZID=UTC:20240505T210000
DTSTAMP:20260424T175156
CREATED:20240324T135711Z
LAST-MODIFIED:20240415T060857Z
UID:1601-1713546000-1714942800@www.jesuspedrohontoriacaballo.es
SUMMARY:FERIA DEL LIBRO ALCALÁ DE HENARES
DESCRIPTION:Este año tengo el honor de participar junto a la Asociación Océanos de Tinta\, en la Feria del Libro de Alcalá de Henares (Plaza de Cervantes).\nYo estaré firmando libros el día 22 de abril y el día 1 de mayo por la tarde\, de 17 a 21 h.📙🖋\nSerá un placer veros por allí y conoceros personalmente. 😉 \n  \n*Se realizara una parada de 14:00 a 17:00
URL:https://www.jesuspedrohontoriacaballo.es/eventos/feria-del-libro-alcala-de-henares-2/
LOCATION:Plaza de Cervantes – Alcalá de Henares\, Plaza de cervantes\, Alcalá de Henares\, Madrid\, 28801\, España
CATEGORIES:General
END:VEVENT
BEGIN:VEVENT
DTSTART;TZID=UTC:20240419T170000
DTEND;TZID=UTC:20240419T210000
DTSTAMP:20260424T175156
CREATED:20240410T132153Z
LAST-MODIFIED:20240410T132153Z
UID:1642-1713546000-1713560400@www.jesuspedrohontoriacaballo.es
SUMMARY:FIRMA DE LIBROS EN ALCOBENDAS
DESCRIPTION:Estaremos firmando libros en la Feria del libro de Alcobendas\, situado en el Parque de Cataluña.
URL:https://www.jesuspedrohontoriacaballo.es/eventos/firma-de-libros-en-alcobendas/
LOCATION:Parque de Cataluña – Alcobendas\, Calle del Marqués de la Valdavia\,21Z\, Alcobendas\, Madrid\, 28100\, España
CATEGORIES:Particular
END:VEVENT
BEGIN:VEVENT
DTSTART;TZID=UTC:20240419T110000
DTEND;TZID=UTC:20240421T210000
DTSTAMP:20260424T175156
CREATED:20240410T131917Z
LAST-MODIFIED:20240411T100545Z
UID:1640-1713524400-1713733200@www.jesuspedrohontoriacaballo.es
SUMMARY:FERIA DEL LIBRO EN ALCOBENDAS
DESCRIPTION:Situados en Librería mavel \n* Se realizara una parada de 14:00 a 17:00
URL:https://www.jesuspedrohontoriacaballo.es/eventos/feria-del-libro-en-alcobendas/
LOCATION:Parque de Cataluña – Alcobendas\, Calle del Marqués de la Valdavia\,21Z\, Alcobendas\, Madrid\, 28100\, España
CATEGORIES:General
END:VEVENT
BEGIN:VEVENT
DTSTART;TZID=UTC:20240406T180000
DTEND;TZID=UTC:20240406T190000
DTSTAMP:20260424T175156
CREATED:20240402T172511Z
LAST-MODIFIED:20240402T172511Z
UID:1634-1712426400-1712430000@www.jesuspedrohontoriacaballo.es
SUMMARY:PRESENTACIÓN EN LA FERIA DEL LIBRO ALCALÁ DE HENARES
DESCRIPTION:
URL:https://www.jesuspedrohontoriacaballo.es/eventos/presentacion-en-la-feria-del-libro-alcala-de-henares/
LOCATION:Plaza del viento – Alcalá de Henares\, Plaza del viento\, Alcalá de Henares\, Madrid\, 28806\, España
CATEGORIES:Particular
END:VEVENT
BEGIN:VEVENT
DTSTART;TZID=UTC:20240406T100000
DTEND;TZID=UTC:20240406T210000
DTSTAMP:20260424T175156
CREATED:20240324T133526Z
LAST-MODIFIED:20240324T162634Z
UID:1586-1712397600-1712437200@www.jesuspedrohontoriacaballo.es
SUMMARY:FESTIVAL ALCALÁ DE HENARES
DESCRIPTION:
URL:https://www.jesuspedrohontoriacaballo.es/eventos/festival-alcala-de-henares/
LOCATION:Plaza del viento – Alcalá de Henares\, Plaza del viento\, Alcalá de Henares\, Madrid\, 28806\, España
CATEGORIES:General
END:VEVENT
END:VCALENDAR