BEGIN:VCALENDAR
VERSION:2.0
PRODID:-//Jesus P.Hontoria Caballo - ECPv6.15.18//NONSGML v1.0//EN
CALSCALE:GREGORIAN
METHOD:PUBLISH
X-ORIGINAL-URL:https://www.jesuspedrohontoriacaballo.es
X-WR-CALDESC:Eventos para Jesus P.Hontoria Caballo
REFRESH-INTERVAL;VALUE=DURATION:PT1H
X-Robots-Tag:noindex
X-PUBLISHED-TTL:PT1H
BEGIN:VTIMEZONE
TZID:UTC
BEGIN:STANDARD
TZOFFSETFROM:+0000
TZOFFSETTO:+0000
TZNAME:UTC
DTSTART:20230101T000000
END:STANDARD
END:VTIMEZONE
BEGIN:VEVENT
DTSTART;TZID=UTC:20250628T120000
DTEND;TZID=UTC:20250628T200000
DTSTAMP:20260424T135114
CREATED:20250624T053459Z
LAST-MODIFIED:20250624T053512Z
UID:2210-1751112000-1751140800@www.jesuspedrohontoriacaballo.es
SUMMARY:Feria de auto publicación
DESCRIPTION:
URL:https://www.jesuspedrohontoriacaballo.es/eventos/feria-de-autopublicacion/
LOCATION:Calle Cervantes – Madrid\, Calle de Cervantes\,10\, Madrid\, Madrid\, 28014\, Spain
ATTACH;FMTTYPE=image/jpeg:https://www.jesuspedrohontoriacaballo.es/wp-content/uploads/2025/06/WhatsApp-Image-2025-06-18-at-22.32.56.jpeg
END:VEVENT
BEGIN:VEVENT
DTSTART;TZID=UTC:20250621T110000
DTEND;TZID=UTC:20250622T213000
DTSTAMP:20260424T135114
CREATED:20250602T062506Z
LAST-MODIFIED:20250620T065425Z
UID:2185-1750503600-1750627800@www.jesuspedrohontoriacaballo.es
SUMMARY:Feria de libro Medinaceli
DESCRIPTION:
URL:https://www.jesuspedrohontoriacaballo.es/eventos/feria-de-libro-medinaceli/
LOCATION:Palacio Ducal – Medinaceli\, Plaza mayor\,4\, medinaceli\, Soria\, 42240\, Spain
ATTACH;FMTTYPE=image/jpeg:https://www.jesuspedrohontoriacaballo.es/wp-content/uploads/2025/06/WhatsApp-Image-2025-06-19-at-19.48.46.jpeg
END:VEVENT
BEGIN:VEVENT
DTSTART;TZID=UTC:20250615T100000
DTEND;TZID=UTC:20250615T140000
DTSTAMP:20260424T135114
CREATED:20250602T061924Z
LAST-MODIFIED:20250602T061924Z
UID:2180-1749981600-1749996000@www.jesuspedrohontoriacaballo.es
SUMMARY:Feria de libro en Sevilla la nueva
DESCRIPTION:
URL:https://www.jesuspedrohontoriacaballo.es/eventos/feria-de-libro-en-sevilla-la-nueva/
LOCATION:Plaza de los arcos – Sevilla la nueva\, Plaza de los arcos\, Sevilla la nueva\, Madrid\, 28609\, Spain
ATTACH;FMTTYPE=image/jpeg:https://www.jesuspedrohontoriacaballo.es/wp-content/uploads/2025/06/WhatsApp-Image-2025-05-31-at-21.25.28.jpeg
END:VEVENT
BEGIN:VEVENT
DTSTART;TZID=UTC:20250614T100000
DTEND;TZID=UTC:20250614T160000
DTSTAMP:20260424T135114
CREATED:20250427T162517Z
LAST-MODIFIED:20250602T061430Z
UID:2117-1749895200-1749916800@www.jesuspedrohontoriacaballo.es
SUMMARY:Feria del libro Navaluenga
DESCRIPTION:
URL:https://www.jesuspedrohontoriacaballo.es/eventos/feria-del-libro-navaluenga/
LOCATION:Polideportivo Francisco Mancebo – Navaluenga\, Calle Juan XXIII\,9-11\, Navaluenga\, Ávila\, 05100\, España
ATTACH;FMTTYPE=image/jpeg:https://www.jesuspedrohontoriacaballo.es/wp-content/uploads/2025/04/WhatsApp-Image-2025-05-30-at-08.32.29.jpeg
END:VEVENT
BEGIN:VEVENT
DTSTART;TZID=UTC:20250525T100000
DTEND;TZID=UTC:20250525T160000
DTSTAMP:20260424T135114
CREATED:20250522T175456Z
LAST-MODIFIED:20250522T175520Z
UID:2166-1748167200-1748188800@www.jesuspedrohontoriacaballo.es
SUMMARY:Feria del libro - Galapagar
DESCRIPTION:
URL:https://www.jesuspedrohontoriacaballo.es/eventos/feria-del-libro-galapagar/
LOCATION:Plaza constitución – Galapagar\, Plaza de la constitución\, Galapagar\, 28260\, Spain
ATTACH;FMTTYPE=image/jpeg:https://www.jesuspedrohontoriacaballo.es/wp-content/uploads/2025/05/Feria-del-libro-galapagar.jpeg
END:VEVENT
BEGIN:VEVENT
DTSTART;TZID=UTC:20250524T110000
DTEND;TZID=UTC:20250524T140000
DTSTAMP:20260424T135114
CREATED:20250427T162057Z
LAST-MODIFIED:20250427T162057Z
UID:2115-1748084400-1748095200@www.jesuspedrohontoriacaballo.es
SUMMARY:Feria del libro Vallecas
DESCRIPTION:
URL:https://www.jesuspedrohontoriacaballo.es/eventos/feria-del-libro-vallecas-4/
LOCATION:Bulevar Peña Gorbea – Puente de vallecas\, Calle de peña gorbea\, Puente de vallecas\, Madrid\, 28053\, España
END:VEVENT
BEGIN:VEVENT
DTSTART;TZID=UTC:20250518T110000
DTEND;TZID=UTC:20250518T140000
DTSTAMP:20260424T135114
CREATED:20250514T194042Z
LAST-MODIFIED:20250514T194042Z
UID:2154-1747566000-1747576800@www.jesuspedrohontoriacaballo.es
SUMMARY:Feria del libro Alcobendas
DESCRIPTION:
URL:https://www.jesuspedrohontoriacaballo.es/eventos/feria-del-libro-alcobendas-4/
LOCATION:Paseo del arte – Alcobendas\, Calle Constitución\, Alcobendas\, Madrid\, Spain
ATTACH;FMTTYPE=image/jpeg:https://www.jesuspedrohontoriacaballo.es/wp-content/uploads/2025/05/3deba3d2-c8eb-4c08-bf54-a97f0cdb583d.jpeg
END:VEVENT
BEGIN:VEVENT
DTSTART;TZID=UTC:20250517T110000
DTEND;TZID=UTC:20250517T160000
DTSTAMP:20260424T135114
CREATED:20250422T062425Z
LAST-MODIFIED:20250501T062312Z
UID:2099-1747479600-1747497600@www.jesuspedrohontoriacaballo.es
SUMMARY:Feria del Libro Vallecas
DESCRIPTION:
URL:https://www.jesuspedrohontoriacaballo.es/eventos/feria-del-libro-vallecas-2/
LOCATION:Bulevar Peña Gorbea – Puente de vallecas\, Calle de peña gorbea\, Puente de vallecas\, Madrid\, 28053\, España
ATTACH;FMTTYPE=image/jpeg:https://www.jesuspedrohontoriacaballo.es/wp-content/uploads/2025/04/f73bf500-be50-4ad6-b2be-12e837316a89.jpeg
END:VEVENT
BEGIN:VEVENT
DTSTART;TZID=UTC:20250516T170000
DTEND;TZID=UTC:20250516T200000
DTSTAMP:20260424T135114
CREATED:20250422T062334Z
LAST-MODIFIED:20250501T062220Z
UID:2097-1747414800-1747425600@www.jesuspedrohontoriacaballo.es
SUMMARY:Feria del Libro Vallecas
DESCRIPTION:
URL:https://www.jesuspedrohontoriacaballo.es/eventos/feria-del-libro-vallecas/
LOCATION:Bulevar Peña Gorbea – Puente de vallecas\, Calle de peña gorbea\, Puente de vallecas\, Madrid\, 28053\, España
ATTACH;FMTTYPE=image/jpeg:https://www.jesuspedrohontoriacaballo.es/wp-content/uploads/2025/04/f73bf500-be50-4ad6-b2be-12e837316a89.jpeg
END:VEVENT
BEGIN:VEVENT
DTSTART;TZID=UTC:20250515T173000
DTEND;TZID=UTC:20250515T210000
DTSTAMP:20260424T135114
CREATED:20250427T161933Z
LAST-MODIFIED:20250501T062134Z
UID:2113-1747330200-1747342800@www.jesuspedrohontoriacaballo.es
SUMMARY:Feria del libro Vallecas
DESCRIPTION:
URL:https://www.jesuspedrohontoriacaballo.es/eventos/feria-del-libro-vallecas-3/
LOCATION:Bulevar Peña Gorbea – Puente de vallecas\, Calle de peña gorbea\, Puente de vallecas\, Madrid\, 28053\, España
ATTACH;FMTTYPE=image/jpeg:https://www.jesuspedrohontoriacaballo.es/wp-content/uploads/2025/04/f459c51a-4df8-42ee-b00e-c3d07d15d424.jpeg
END:VEVENT
BEGIN:VEVENT
DTSTART;TZID=UTC:20250514T173000
DTEND;TZID=UTC:20250514T210000
DTSTAMP:20260424T135114
CREATED:20250513T212412Z
LAST-MODIFIED:20250513T212412Z
UID:2151-1747243800-1747256400@www.jesuspedrohontoriacaballo.es
SUMMARY:Feria del libro Vallecas
DESCRIPTION:
URL:https://www.jesuspedrohontoriacaballo.es/eventos/feria-del-libro-vallecas-5/
LOCATION:Bulevar Peña Gorbea – Puente de vallecas\, Calle de peña gorbea\, Puente de vallecas\, Madrid\, 28053\, España
ATTACH;FMTTYPE=image/jpeg:https://www.jesuspedrohontoriacaballo.es/wp-content/uploads/2025/05/e38417dd-8a83-4a75-aee9-35679e7fbf89.jpeg
END:VEVENT
BEGIN:VEVENT
DTSTART;TZID=UTC:20250511T170000
DTEND;TZID=UTC:20250511T210000
DTSTAMP:20260424T135114
CREATED:20250501T062641Z
LAST-MODIFIED:20250501T062641Z
UID:2125-1746982800-1746997200@www.jesuspedrohontoriacaballo.es
SUMMARY:Feria del libro Tres cantos
DESCRIPTION:
URL:https://www.jesuspedrohontoriacaballo.es/eventos/feria-del-libro-tres-cantos/
LOCATION:Avenida del Colmenar – Tres cantos\, Avenida del colmenar\, Tres cantos\, 28760\, España
ATTACH;FMTTYPE=image/jpeg:https://www.jesuspedrohontoriacaballo.es/wp-content/uploads/2025/05/f6b59526-6402-411c-b227-7e684b7268ee.jpeg
END:VEVENT
BEGIN:VEVENT
DTSTART;TZID=UTC:20250506T170000
DTEND;TZID=UTC:20250506T210000
DTSTAMP:20260424T135114
CREATED:20250422T062049Z
LAST-MODIFIED:20250422T062049Z
UID:2095-1746550800-1746565200@www.jesuspedrohontoriacaballo.es
SUMMARY:Feria del libro Alcalá de Henares
DESCRIPTION:
URL:https://www.jesuspedrohontoriacaballo.es/eventos/feria-del-libro-alcala-de-henares-4/
LOCATION:Plaza de Cervantes – Alcalá de Henares\, Plaza de cervantes\, Alcalá de Henares\, Madrid\, 28801\, España
ATTACH;FMTTYPE=image/jpeg:https://www.jesuspedrohontoriacaballo.es/wp-content/uploads/2025/04/Feria-Alcala-de-Henares.jpeg
END:VEVENT
BEGIN:VEVENT
DTSTART;TZID=UTC:20250502T103000
DTEND;TZID=UTC:20250502T160000
DTSTAMP:20260424T135114
CREATED:20250422T061920Z
LAST-MODIFIED:20250422T061920Z
UID:2093-1746181800-1746201600@www.jesuspedrohontoriacaballo.es
SUMMARY:Feria del libro Alcalá de Henares
DESCRIPTION:
URL:https://www.jesuspedrohontoriacaballo.es/eventos/feria-del-libro-alcala-de-henares-3/
LOCATION:Plaza de Cervantes – Alcalá de Henares\, Plaza de cervantes\, Alcalá de Henares\, Madrid\, 28801\, España
ATTACH;FMTTYPE=image/jpeg:https://www.jesuspedrohontoriacaballo.es/wp-content/uploads/2025/04/Feria-Alcala-de-Henares.jpeg
END:VEVENT
BEGIN:VEVENT
DTSTART;TZID=UTC:20250501T170000
DTEND;TZID=UTC:20250501T213000
DTSTAMP:20260424T135114
CREATED:20250422T061714Z
LAST-MODIFIED:20250422T061714Z
UID:2091-1746118800-1746135000@www.jesuspedrohontoriacaballo.es
SUMMARY:Feria del libro Alcalá de Henares
DESCRIPTION:
URL:https://www.jesuspedrohontoriacaballo.es/eventos/feria-del-libro-alcala-de-henares/
LOCATION:Plaza de Cervantes – Alcalá de Henares\, Plaza de cervantes\, Alcalá de Henares\, Madrid\, 28801\, España
ATTACH;FMTTYPE=image/jpeg:https://www.jesuspedrohontoriacaballo.es/wp-content/uploads/2025/04/Feria-Alcala-de-Henares-2.jpeg
END:VEVENT
BEGIN:VEVENT
DTSTART;TZID=UTC:20250427T110000
DTEND;TZID=UTC:20250427T200000
DTSTAMP:20260424T135114
CREATED:20250227T113606Z
LAST-MODIFIED:20250417T142949Z
UID:1994-1745751600-1745784000@www.jesuspedrohontoriacaballo.es
SUMMARY:Feria de Ajalvir
DESCRIPTION:
URL:https://www.jesuspedrohontoriacaballo.es/eventos/feria-de-ajalvir/
LOCATION:Plaza de la Villa – Ajalvir\, Plaza de la villa\, Ajalvir\, Madrid\, Spain
ATTACH;FMTTYPE=image/jpeg:https://www.jesuspedrohontoriacaballo.es/wp-content/uploads/2025/02/WhatsApp-Image-2025-04-09-at-04.15.24.jpeg
END:VEVENT
BEGIN:VEVENT
DTSTART;TZID=UTC:20250426T170000
DTEND;TZID=UTC:20250426T203000
DTSTAMP:20260424T135114
CREATED:20250324T153457Z
LAST-MODIFIED:20250417T142459Z
UID:2015-1745686800-1745699400@www.jesuspedrohontoriacaballo.es
SUMMARY:Presentación Rivas-vaciamadrid
DESCRIPTION:Situados en el parking superior en Calle Jovellanos\,30 – Biblioteca Gloria Fuertes
URL:https://www.jesuspedrohontoriacaballo.es/eventos/presentacion-rivas-vaciamadrid/
LOCATION:Biblioteca Gloria Fuertes – Rivas vaciamadrid\, Calle Jovellanos\,30\, Rivas-Vaciamadrid\, Madrid\, 28522\, Spain
ATTACH;FMTTYPE=image/jpeg:https://www.jesuspedrohontoriacaballo.es/wp-content/uploads/2025/03/WhatsApp-Image-2025-04-09-at-17.17.12.jpeg
END:VEVENT
BEGIN:VEVENT
DTSTART;TZID=UTC:20250426T110000
DTEND;TZID=UTC:20250426T143000
DTSTAMP:20260424T135114
CREATED:20250422T061300Z
LAST-MODIFIED:20250422T061300Z
UID:2087-1745665200-1745677800@www.jesuspedrohontoriacaballo.es
SUMMARY:Feria Ajalvir
DESCRIPTION:
URL:https://www.jesuspedrohontoriacaballo.es/eventos/feria-ajalvir/
LOCATION:Plaza de la Villa – Ajalvir\, Plaza de la villa\, Ajalvir\, Madrid\, Spain
ATTACH;FMTTYPE=image/jpeg:https://www.jesuspedrohontoriacaballo.es/wp-content/uploads/2025/04/Feria-Ajalvir.jpeg
END:VEVENT
BEGIN:VEVENT
DTSTART;TZID=UTC:20250425T170000
DTEND;TZID=UTC:20250425T200000
DTSTAMP:20260424T135114
CREATED:20250422T060717Z
LAST-MODIFIED:20250422T060717Z
UID:2082-1745600400-1745611200@www.jesuspedrohontoriacaballo.es
SUMMARY:Feria del Libro Moratalaz
DESCRIPTION:
URL:https://www.jesuspedrohontoriacaballo.es/eventos/feria-del-libro-moratalaz/
LOCATION:Plaza de Manuel de Quintana – Moratalaz\, Plaza de manuel de quintana\, moratalaz\, Spain
ATTACH;FMTTYPE=image/jpeg:https://www.jesuspedrohontoriacaballo.es/wp-content/uploads/2025/04/Feria-Moratalaz.jpeg
END:VEVENT
BEGIN:VEVENT
DTSTART;TZID=UTC:20250420T110000
DTEND;TZID=UTC:20250420T140000
DTSTAMP:20260424T135114
CREATED:20250417T173707Z
LAST-MODIFIED:20250419T183605Z
UID:2067-1745146800-1745157600@www.jesuspedrohontoriacaballo.es
SUMMARY:Feria del libro - Alcobendas
DESCRIPTION:
URL:https://www.jesuspedrohontoriacaballo.es/eventos/feria-del-libro-alcobendas-3/
LOCATION:Paseo del arte – Alcobendas\, Calle Constitución\, Alcobendas\, Madrid\, Spain
ATTACH;FMTTYPE=image/jpeg:https://www.jesuspedrohontoriacaballo.es/wp-content/uploads/2025/04/IMG_7193.jpeg
END:VEVENT
BEGIN:VEVENT
DTSTART;TZID=UTC:20250406T110000
DTEND;TZID=UTC:20250406T210000
DTSTAMP:20260424T135114
CREATED:20250329T074926Z
LAST-MODIFIED:20250329T075035Z
UID:2026-1743937200-1743973200@www.jesuspedrohontoriacaballo.es
SUMMARY:Feria del libro Ciempozuelos
DESCRIPTION:Casetas 19 y 20
URL:https://www.jesuspedrohontoriacaballo.es/eventos/feria-del-libro-ciempozuelos/
LOCATION:Jerónimo del Moral con Plaza Constitución – Ciempozuelos\, Calle Jerónimo del Moral y plaza de la contitución\, Ciempozuelos\, Madrid\, 28350\, Spain
ATTACH;FMTTYPE=image/jpeg:https://www.jesuspedrohontoriacaballo.es/wp-content/uploads/2025/03/02d3fe2e-9cdc-46c7-a24e-a200dd254a75.jpeg
END:VEVENT
BEGIN:VEVENT
DTSTART;TZID=UTC:20250405T170000
DTEND;TZID=UTC:20250405T200000
DTSTAMP:20260424T135114
CREATED:20250329T074715Z
LAST-MODIFIED:20250329T074715Z
UID:2021-1743872400-1743883200@www.jesuspedrohontoriacaballo.es
SUMMARY:Feria Libro Ciempozuelos
DESCRIPTION:Caseta 14
URL:https://www.jesuspedrohontoriacaballo.es/eventos/feria-libro-ciempozuelos/
LOCATION:Jerónimo del Moral con Plaza Constitución – Ciempozuelos\, Calle Jerónimo del Moral y plaza de la contitución\, Ciempozuelos\, Madrid\, 28350\, Spain
ATTACH;FMTTYPE=image/jpeg:https://www.jesuspedrohontoriacaballo.es/wp-content/uploads/2025/03/b37c3bbc-d1d6-4e34-86e8-f27ee8129698.jpeg
END:VEVENT
BEGIN:VEVENT
DTSTART;TZID=UTC:20250404T173000
DTEND;TZID=UTC:20250404T193000
DTSTAMP:20260424T135114
CREATED:20250315T084818Z
LAST-MODIFIED:20250315T084818Z
UID:2001-1743787800-1743795000@www.jesuspedrohontoriacaballo.es
SUMMARY:Evento literario Literaty
DESCRIPTION:
URL:https://www.jesuspedrohontoriacaballo.es/eventos/evento-literario-literaty/
LOCATION:Centro cultural Sanchinarro\, Calle de la princesa de Éboli\,29\, Madrid\, Madrid\, 29050\, Spain
ATTACH;FMTTYPE=image/jpeg:https://www.jesuspedrohontoriacaballo.es/wp-content/uploads/2025/03/e934a3b6-6925-493c-99b4-9f750ddc1cf7.jpeg
END:VEVENT
BEGIN:VEVENT
DTSTART;TZID=UTC:20250324T080000
DTEND;TZID=UTC:20250324T170000
DTSTAMP:20260424T135114
CREATED:20250324T153041Z
LAST-MODIFIED:20250324T153041Z
UID:2009-1742803200-1742835600@www.jesuspedrohontoriacaballo.es
SUMMARY:Presentación en Plaza Cervantes - Alcalá de Henares
DESCRIPTION:
URL:https://www.jesuspedrohontoriacaballo.es/eventos/presentacion-en-plaza-cervantes-alcala-de-henares/
LOCATION:Madrid
END:VEVENT
BEGIN:VEVENT
DTSTART;TZID=UTC:20250306T183000
DTEND;TZID=UTC:20250306T210000
DTSTAMP:20260424T135114
CREATED:20250227T112758Z
LAST-MODIFIED:20250227T112758Z
UID:1989-1741285800-1741294800@www.jesuspedrohontoriacaballo.es
SUMMARY:Presentación en Librería Diwan
DESCRIPTION:
URL:https://www.jesuspedrohontoriacaballo.es/eventos/presentacion-en-libreria-diwan/
LOCATION:Librería Diwan – Madrid\, Calle Puerto de Canfranc\,20\, Madrid\, Madrid\, Spain
ATTACH;FMTTYPE=image/jpeg:https://www.jesuspedrohontoriacaballo.es/wp-content/uploads/2025/02/presentacion-6-marzo.jpeg
END:VEVENT
BEGIN:VEVENT
DTSTART;TZID=UTC:20250216T110000
DTEND;TZID=UTC:20250216T140000
DTSTAMP:20260424T135114
CREATED:20250208T163810Z
LAST-MODIFIED:20250208T163810Z
UID:1970-1739703600-1739714400@www.jesuspedrohontoriacaballo.es
SUMMARY:Feria del libro - Alcobendas
DESCRIPTION:
URL:https://www.jesuspedrohontoriacaballo.es/eventos/feria-del-libro-alcobendas-2/
LOCATION:Paseo del arte – Alcobendas\, Calle Constitución\, Alcobendas\, Madrid\, Spain
ATTACH;FMTTYPE=image/jpeg:https://www.jesuspedrohontoriacaballo.es/wp-content/uploads/2025/02/73ed6515-ddeb-4690-93be-cb9e83eeaade.jpeg
END:VEVENT
BEGIN:VEVENT
DTSTART;TZID=UTC:20241231T110000
DTEND;TZID=UTC:20241231T140000
DTSTAMP:20260424T135114
CREATED:20241126T074131Z
LAST-MODIFIED:20241205T063909Z
UID:1921-1735642800-1735653600@www.jesuspedrohontoriacaballo.es
SUMMARY:Mercado Navideño Móstoles
DESCRIPTION:
URL:https://www.jesuspedrohontoriacaballo.es/eventos/mercado-navideno-mostoles-4/
LOCATION:Plaza Pradillo – Móstoles\, Plaza Pradillo\, Mostoles\, Madrid\, 28931\, Spain
ATTACH;FMTTYPE=image/jpeg:https://www.jesuspedrohontoriacaballo.es/wp-content/uploads/2024/12/6da60fbf-4817-4f18-b026-f78f7acd845f.jpeg
END:VEVENT
BEGIN:VEVENT
DTSTART;TZID=UTC:20241230T103000
DTEND;TZID=UTC:20241230T143000
DTSTAMP:20260424T135114
CREATED:20241126T074058Z
LAST-MODIFIED:20241222T102443Z
UID:1918-1735554600-1735569000@www.jesuspedrohontoriacaballo.es
SUMMARY:Mercado Navideño Móstoles
DESCRIPTION:
URL:https://www.jesuspedrohontoriacaballo.es/eventos/mercado-navideno-mostoles-3/
LOCATION:Plaza Pradillo – Móstoles\, Plaza Pradillo\, Mostoles\, Madrid\, 28931\, Spain
ATTACH;FMTTYPE=image/jpeg:https://www.jesuspedrohontoriacaballo.es/wp-content/uploads/2024/12/6da60fbf-4817-4f18-b026-f78f7acd845f.jpeg
END:VEVENT
BEGIN:VEVENT
DTSTART;TZID=UTC:20241215T100000
DTEND;TZID=UTC:20241215T140000
DTSTAMP:20260424T135114
CREATED:20241205T063456Z
LAST-MODIFIED:20241205T063456Z
UID:1932-1734256800-1734271200@www.jesuspedrohontoriacaballo.es
SUMMARY:Feria del libro de Alcobendas
DESCRIPTION:
URL:https://www.jesuspedrohontoriacaballo.es/eventos/feria-del-libro-de-alcobendas-2/
LOCATION:Paseo del arte – Alcobendas\, Calle Constitución\, Alcobendas\, Madrid\, Spain
END:VEVENT
BEGIN:VEVENT
DTSTART;TZID=UTC:20241206T120000
DTEND;TZID=UTC:20241206T140000
DTSTAMP:20260424T135114
CREATED:20241126T073954Z
LAST-MODIFIED:20241205T063822Z
UID:1916-1733486400-1733493600@www.jesuspedrohontoriacaballo.es
SUMMARY:Mercado Navideño Móstoles
DESCRIPTION:
URL:https://www.jesuspedrohontoriacaballo.es/eventos/mercado-navideno-mostoles-2/
LOCATION:Plaza Pradillo – Móstoles\, Plaza Pradillo\, Mostoles\, Madrid\, 28931\, Spain
ATTACH;FMTTYPE=image/jpeg:https://www.jesuspedrohontoriacaballo.es/wp-content/uploads/2024/12/6da60fbf-4817-4f18-b026-f78f7acd845f.jpeg
END:VEVENT
END:VCALENDAR