BEGIN:VCALENDAR
VERSION:2.0
PRODID:-//Jesus P.Hontoria Caballo - ECPv6.15.18//NONSGML v1.0//EN
CALSCALE:GREGORIAN
METHOD:PUBLISH
X-WR-CALNAME:Jesus P.Hontoria Caballo
X-ORIGINAL-URL:https://www.jesuspedrohontoriacaballo.es
X-WR-CALDESC:Eventos para Jesus P.Hontoria Caballo
REFRESH-INTERVAL;VALUE=DURATION:PT1H
X-Robots-Tag:noindex
X-PUBLISHED-TTL:PT1H
BEGIN:VTIMEZONE
TZID:UTC
BEGIN:STANDARD
TZOFFSETFROM:+0000
TZOFFSETTO:+0000
TZNAME:UTC
DTSTART:20250101T000000
END:STANDARD
END:VTIMEZONE
BEGIN:VEVENT
DTSTART;TZID=UTC:20260509T173000
DTEND;TZID=UTC:20260509T210000
DTSTAMP:20260420T135403
CREATED:20260307T105948Z
LAST-MODIFIED:20260307T105948Z
UID:2378-1778347800-1778360400@www.jesuspedrohontoriacaballo.es
SUMMARY:Feria del libro - Vallecas
DESCRIPTION:
URL:https://www.jesuspedrohontoriacaballo.es/eventos/feria-del-libro-vallecas-6/
LOCATION:Bulevar Peña Gorbea – Puente de vallecas\, Calle de peña gorbea\, Puente de vallecas\, Madrid\, 28053\, España
END:VEVENT
BEGIN:VEVENT
DTSTART;TZID=UTC:20260516T110000
DTEND;TZID=UTC:20260516T140000
DTSTAMP:20260420T135403
CREATED:20260307T110101Z
LAST-MODIFIED:20260307T110101Z
UID:2380-1778929200-1778940000@www.jesuspedrohontoriacaballo.es
SUMMARY:Feria del libro - Vallecas
DESCRIPTION:
URL:https://www.jesuspedrohontoriacaballo.es/eventos/feria-del-libro-vallecas-7/
LOCATION:Bulevar Peña Gorbea – Puente de vallecas\, Calle de peña gorbea\, Puente de vallecas\, Madrid\, 28053\, España
END:VEVENT
BEGIN:VEVENT
DTSTART;TZID=UTC:20260517T110000
DTEND;TZID=UTC:20260517T140000
DTSTAMP:20260420T135403
CREATED:20260406T102919Z
LAST-MODIFIED:20260406T102919Z
UID:2454-1779015600-1779026400@www.jesuspedrohontoriacaballo.es
SUMMARY:Feria del libro - Vallecas
DESCRIPTION:
URL:https://www.jesuspedrohontoriacaballo.es/eventos/feria-del-libro-vallecas-10/
LOCATION:Bulevar Peña Gorbea – Puente de vallecas\, Calle de peña gorbea\, Puente de vallecas\, Madrid\, 28053\, España
END:VEVENT
BEGIN:VEVENT
DTSTART;TZID=UTC:20260519T173000
DTEND;TZID=UTC:20260519T210000
DTSTAMP:20260420T135403
CREATED:20260307T110159Z
LAST-MODIFIED:20260307T110159Z
UID:2382-1779211800-1779224400@www.jesuspedrohontoriacaballo.es
SUMMARY:Feria del libro - Vallecas
DESCRIPTION:
URL:https://www.jesuspedrohontoriacaballo.es/eventos/feria-del-libro-vallecas-8/
LOCATION:Bulevar Peña Gorbea – Puente de vallecas\, Calle de peña gorbea\, Puente de vallecas\, Madrid\, 28053\, España
END:VEVENT
BEGIN:VEVENT
DTSTART;TZID=UTC:20260521T173000
DTEND;TZID=UTC:20260521T210000
DTSTAMP:20260420T135403
CREATED:20260420T115128Z
LAST-MODIFIED:20260420T115128Z
UID:2461-1779384600-1779397200@www.jesuspedrohontoriacaballo.es
SUMMARY:Feria del libro - Fuenlabrada
DESCRIPTION:
URL:https://www.jesuspedrohontoriacaballo.es/eventos/feria-del-libro-fuenlabrada/
LOCATION:Plaza España – Fuenlabrada\, Plaza España\, Fuenlabrada\, madrid\, 28944\, Spain
END:VEVENT
BEGIN:VEVENT
DTSTART;TZID=UTC:20260522T170000
DTEND;TZID=UTC:20260522T210000
DTSTAMP:20260420T135403
CREATED:20260420T115221Z
LAST-MODIFIED:20260420T115221Z
UID:2464-1779469200-1779483600@www.jesuspedrohontoriacaballo.es
SUMMARY:Feria del libro - Fuenlabrada
DESCRIPTION:
URL:https://www.jesuspedrohontoriacaballo.es/eventos/feria-del-libro-fuenlabrada-2/
LOCATION:Plaza España – Fuenlabrada\, Plaza España\, Fuenlabrada\, madrid\, 28944\, Spain
END:VEVENT
BEGIN:VEVENT
DTSTART;TZID=UTC:20260523T110000
DTEND;TZID=UTC:20260523T143000
DTSTAMP:20260420T135403
CREATED:20260307T110330Z
LAST-MODIFIED:20260307T110330Z
UID:2384-1779534000-1779546600@www.jesuspedrohontoriacaballo.es
SUMMARY:Feria del libro - Vallecas
DESCRIPTION:
URL:https://www.jesuspedrohontoriacaballo.es/eventos/feria-del-libro-vallecas-9/
LOCATION:Bulevar Peña Gorbea – Puente de vallecas\, Calle de peña gorbea\, Puente de vallecas\, Madrid\, 28053\, España
END:VEVENT
BEGIN:VEVENT
DTSTART;TZID=UTC:20260523T170000
DTEND;TZID=UTC:20260523T210000
DTSTAMP:20260420T135403
CREATED:20260420T115255Z
LAST-MODIFIED:20260420T115255Z
UID:2466-1779555600-1779570000@www.jesuspedrohontoriacaballo.es
SUMMARY:Feria del libro - Fuenlabrada
DESCRIPTION:
URL:https://www.jesuspedrohontoriacaballo.es/eventos/feria-del-libro-fuenlabrada-3/
LOCATION:Plaza España – Fuenlabrada\, Plaza España\, Fuenlabrada\, madrid\, 28944\, Spain
END:VEVENT
BEGIN:VEVENT
DTSTART;TZID=UTC:20260524T170000
DTEND;TZID=UTC:20260524T210000
DTSTAMP:20260420T135403
CREATED:20260420T115335Z
LAST-MODIFIED:20260420T115335Z
UID:2468-1779642000-1779656400@www.jesuspedrohontoriacaballo.es
SUMMARY:Feria del libro - Fuenlabrada
DESCRIPTION:
URL:https://www.jesuspedrohontoriacaballo.es/eventos/feria-del-libro-fuenlabrada-4/
LOCATION:Plaza España – Fuenlabrada\, Plaza España\, Fuenlabrada\, madrid\, 28944\, Spain
END:VEVENT
END:VCALENDAR