BEGIN:VCALENDAR
VERSION:2.0
PRODID:-//Jesus P.Hontoria Caballo - ECPv6.15.18//NONSGML v1.0//EN
CALSCALE:GREGORIAN
METHOD:PUBLISH
X-WR-CALNAME:Jesus P.Hontoria Caballo
X-ORIGINAL-URL:https://www.jesuspedrohontoriacaballo.es
X-WR-CALDESC:Eventos para Jesus P.Hontoria Caballo
REFRESH-INTERVAL;VALUE=DURATION:PT1H
X-Robots-Tag:noindex
X-PUBLISHED-TTL:PT1H
BEGIN:VTIMEZONE
TZID:UTC
BEGIN:STANDARD
TZOFFSETFROM:+0000
TZOFFSETTO:+0000
TZNAME:UTC
DTSTART:20240101T000000
END:STANDARD
END:VTIMEZONE
BEGIN:VEVENT
DTSTART;TZID=UTC:20260419T110000
DTEND;TZID=UTC:20260419T140000
DTSTAMP:20260420T104122
CREATED:20260406T102733Z
LAST-MODIFIED:20260406T102733Z
UID:2452-1776596400-1776607200@www.jesuspedrohontoriacaballo.es
SUMMARY:Feria del libro - Alcobendas
DESCRIPTION:
URL:https://www.jesuspedrohontoriacaballo.es/eventos/feria-del-libro-alcobendas-10/
LOCATION:Paseo del arte – Alcobendas\, Calle Constitución\, Alcobendas\, Madrid\, Spain
END:VEVENT
BEGIN:VEVENT
DTSTART;TZID=UTC:20260103T110000
DTEND;TZID=UTC:20260103T210000
DTSTAMP:20260420T104122
CREATED:20251129T083551Z
LAST-MODIFIED:20251129T083551Z
UID:2323-1767438000-1767474000@www.jesuspedrohontoriacaballo.es
SUMMARY:Feria Navideña - Móstoles
DESCRIPTION:Horario partido de 11 a 14 y de 17 a 21
URL:https://www.jesuspedrohontoriacaballo.es/eventos/feria-navidena-mostoles-4/
LOCATION:Plaza Pradillo – Móstoles\, Plaza Pradillo\, Mostoles\, Madrid\, 28931\, Spain
ATTACH;FMTTYPE=image/jpeg:https://www.jesuspedrohontoriacaballo.es/wp-content/uploads/2025/11/feria-navidena-mostoles-jesus-hontoria.jpeg
END:VEVENT
BEGIN:VEVENT
DTSTART;TZID=UTC:20260102T170000
DTEND;TZID=UTC:20260102T210000
DTSTAMP:20260420T104122
CREATED:20251129T083424Z
LAST-MODIFIED:20251129T083424Z
UID:2321-1767373200-1767387600@www.jesuspedrohontoriacaballo.es
SUMMARY:Feria Navideña - Móstoles
DESCRIPTION:
URL:https://www.jesuspedrohontoriacaballo.es/eventos/feria-navidena-mostoles-3/
LOCATION:Plaza Pradillo – Móstoles\, Plaza Pradillo\, Mostoles\, Madrid\, 28931\, Spain
END:VEVENT
BEGIN:VEVENT
DTSTART;TZID=UTC:20251230T110000
DTEND;TZID=UTC:20251230T140000
DTSTAMP:20260420T104122
CREATED:20251129T083332Z
LAST-MODIFIED:20251129T083332Z
UID:2319-1767092400-1767103200@www.jesuspedrohontoriacaballo.es
SUMMARY:Feria Navideña - Móstoles
DESCRIPTION:
URL:https://www.jesuspedrohontoriacaballo.es/eventos/feria-navidena-mostoles-2/
LOCATION:Plaza Pradillo – Móstoles\, Plaza Pradillo\, Mostoles\, Madrid\, 28931\, Spain
ATTACH;FMTTYPE=image/jpeg:https://www.jesuspedrohontoriacaballo.es/wp-content/uploads/2025/11/feria-navidena-mostoles-jesus-hontoria.jpeg
END:VEVENT
BEGIN:VEVENT
DTSTART;TZID=UTC:20251226T110000
DTEND;TZID=UTC:20251226T220000
DTSTAMP:20260420T104122
CREATED:20251210T163441Z
LAST-MODIFIED:20251210T163441Z
UID:2343-1766746800-1766786400@www.jesuspedrohontoriacaballo.es
SUMMARY:Feria Navideña - Alcorcón
DESCRIPTION:
URL:https://www.jesuspedrohontoriacaballo.es/eventos/feria-navidena-alcorcon-2/
LOCATION:Calle Oslo – Alcorcón\, Calle Oslo\, 53\, Alcorcón\, Madrid\, 28922\, Spain
ATTACH;FMTTYPE=image/jpeg:https://www.jesuspedrohontoriacaballo.es/wp-content/uploads/2025/12/feria-navidena-alcorcon-Jesus-hontoria.jpeg
END:VEVENT
BEGIN:VEVENT
DTSTART;TZID=UTC:20251224T110000
DTEND;TZID=UTC:20251224T180000
DTSTAMP:20260420T104122
CREATED:20251210T163345Z
LAST-MODIFIED:20251210T163345Z
UID:2339-1766574000-1766599200@www.jesuspedrohontoriacaballo.es
SUMMARY:Feria Navideña - Alcorcón
DESCRIPTION:
URL:https://www.jesuspedrohontoriacaballo.es/eventos/feria-navidena-alcorcon/
LOCATION:Calle Oslo – Alcorcón\, Calle Oslo\, 53\, Alcorcón\, Madrid\, 28922\, Spain
ATTACH;FMTTYPE=image/jpeg:https://www.jesuspedrohontoriacaballo.es/wp-content/uploads/2025/12/feria-navidena-alcorcon-Jesus-hontoria.jpeg
END:VEVENT
BEGIN:VEVENT
DTSTART;TZID=UTC:20251223T170000
DTEND;TZID=UTC:20251223T210000
DTSTAMP:20260420T104122
CREATED:20251129T083223Z
LAST-MODIFIED:20251129T083223Z
UID:2316-1766509200-1766523600@www.jesuspedrohontoriacaballo.es
SUMMARY:Feria Navideña - Móstoles
DESCRIPTION:
URL:https://www.jesuspedrohontoriacaballo.es/eventos/feria-navidena-mostoles/
LOCATION:Plaza Pradillo – Móstoles\, Plaza Pradillo\, Mostoles\, Madrid\, 28931\, Spain
ATTACH;FMTTYPE=image/jpeg:https://www.jesuspedrohontoriacaballo.es/wp-content/uploads/2025/11/feria-navidena-mostoles-jesus-hontoria.jpeg
END:VEVENT
BEGIN:VEVENT
DTSTART;TZID=UTC:20251213T110000
DTEND;TZID=UTC:20251213T210000
DTSTAMP:20260420T104122
CREATED:20251129T092534Z
LAST-MODIFIED:20251129T092534Z
UID:2335-1765623600-1765659600@www.jesuspedrohontoriacaballo.es
SUMMARY:Feria navideña - Móstoles
DESCRIPTION:Horario partido de 11:00 a 14:00 y de 17:00 a 21:00
URL:https://www.jesuspedrohontoriacaballo.es/eventos/feria-navidena-mostoles-8/
LOCATION:Plaza Pradillo – Móstoles\, Plaza Pradillo\, Mostoles\, Madrid\, 28931\, Spain
ATTACH;FMTTYPE=image/jpeg:https://www.jesuspedrohontoriacaballo.es/wp-content/uploads/2025/11/035f2f28-cf49-4f61-8f7a-bf17624f79c7.jpeg
END:VEVENT
BEGIN:VEVENT
DTSTART;TZID=UTC:20251212T170000
DTEND;TZID=UTC:20251212T210000
DTSTAMP:20260420T104122
CREATED:20251129T092356Z
LAST-MODIFIED:20251129T092356Z
UID:2333-1765558800-1765573200@www.jesuspedrohontoriacaballo.es
SUMMARY:Feria navideña - Móstoles
DESCRIPTION:
URL:https://www.jesuspedrohontoriacaballo.es/eventos/feria-navidena-mostoles-7/
LOCATION:Plaza Pradillo – Móstoles\, Plaza Pradillo\, Mostoles\, Madrid\, 28931\, Spain
ATTACH;FMTTYPE=image/jpeg:https://www.jesuspedrohontoriacaballo.es/wp-content/uploads/2025/11/035f2f28-cf49-4f61-8f7a-bf17624f79c7.jpeg
END:VEVENT
BEGIN:VEVENT
DTSTART;TZID=UTC:20251211T110000
DTEND;TZID=UTC:20251211T210000
DTSTAMP:20260420T104122
CREATED:20251129T092214Z
LAST-MODIFIED:20251129T092214Z
UID:2331-1765450800-1765486800@www.jesuspedrohontoriacaballo.es
SUMMARY:Feria navideña - Móstoles
DESCRIPTION:Horario partido de 11:00 a 14:00 y de 15:00 a 21:00
URL:https://www.jesuspedrohontoriacaballo.es/eventos/feria-navidena-mostoles-6/
LOCATION:Plaza Pradillo – Móstoles\, Plaza Pradillo\, Mostoles\, Madrid\, 28931\, Spain
ATTACH;FMTTYPE=image/jpeg:https://www.jesuspedrohontoriacaballo.es/wp-content/uploads/2025/11/035f2f28-cf49-4f61-8f7a-bf17624f79c7.jpeg
END:VEVENT
BEGIN:VEVENT
DTSTART;TZID=UTC:20251210T110000
DTEND;TZID=UTC:20251210T210000
DTSTAMP:20260420T104122
CREATED:20251129T092039Z
LAST-MODIFIED:20251129T092039Z
UID:2328-1765364400-1765400400@www.jesuspedrohontoriacaballo.es
SUMMARY:Feria navideña - Móstoles
DESCRIPTION:Horario partido de 11:00 a 14:00 y de 17:00 a 21:00
URL:https://www.jesuspedrohontoriacaballo.es/eventos/feria-navidena-mostoles-5/
LOCATION:Plaza Pradillo – Móstoles\, Plaza Pradillo\, Mostoles\, Madrid\, 28931\, Spain
ATTACH;FMTTYPE=image/jpeg:https://www.jesuspedrohontoriacaballo.es/wp-content/uploads/2025/11/035f2f28-cf49-4f61-8f7a-bf17624f79c7.jpeg
END:VEVENT
BEGIN:VEVENT
DTSTART;TZID=UTC:20251116T110000
DTEND;TZID=UTC:20251116T160000
DTSTAMP:20260420T104122
CREATED:20251129T083839Z
LAST-MODIFIED:20251129T083839Z
UID:2325-1763290800-1763308800@www.jesuspedrohontoriacaballo.es
SUMMARY:Feria del libro - Alcobendas
DESCRIPTION:
URL:https://www.jesuspedrohontoriacaballo.es/eventos/feria-del-libro-alcobendas-6/
LOCATION:Paseo del arte – Alcobendas\, Calle Constitución\, Alcobendas\, Madrid\, Spain
ATTACH;FMTTYPE=image/jpeg:https://www.jesuspedrohontoriacaballo.es/wp-content/uploads/2025/11/feria-del-libro-alcobendas-jesus-hontoria.jpeg
END:VEVENT
BEGIN:VEVENT
DTSTART;VALUE=DATE:20251031
DTEND;VALUE=DATE:20251101
DTSTAMP:20260420T104122
CREATED:20251012T095311Z
LAST-MODIFIED:20251012T095311Z
UID:2301-1761868800-1761955199@www.jesuspedrohontoriacaballo.es
SUMMARY:Feria del libro Getafe
DESCRIPTION:
URL:https://www.jesuspedrohontoriacaballo.es/eventos/feria-del-libro-getafe-5/
LOCATION:Plaza unesco – Getafe\, Plaza unesco\, Getafe\, Madrid\, Spain
ATTACH;FMTTYPE=image/jpeg:https://www.jesuspedrohontoriacaballo.es/wp-content/uploads/2025/10/feria-del-libro-getafe-jesus-hontoria.jpeg
END:VEVENT
BEGIN:VEVENT
DTSTART;VALUE=DATE:20251019
DTEND;VALUE=DATE:20251020
DTSTAMP:20260420T104122
CREATED:20251012T095243Z
LAST-MODIFIED:20251012T095243Z
UID:2299-1760832000-1760918399@www.jesuspedrohontoriacaballo.es
SUMMARY:Feria del libro Getafe
DESCRIPTION:
URL:https://www.jesuspedrohontoriacaballo.es/eventos/feria-del-libro-getafe-4/
LOCATION:Plaza unesco – Getafe\, Plaza unesco\, Getafe\, Madrid\, Spain
ATTACH;FMTTYPE=image/jpeg:https://www.jesuspedrohontoriacaballo.es/wp-content/uploads/2025/10/feria-del-libro-getafe-jesus-hontoria.jpeg
END:VEVENT
BEGIN:VEVENT
DTSTART;TZID=UTC:20251018T110000
DTEND;TZID=UTC:20251018T140000
DTSTAMP:20260420T104122
CREATED:20251012T095214Z
LAST-MODIFIED:20251012T095214Z
UID:2297-1760785200-1760796000@www.jesuspedrohontoriacaballo.es
SUMMARY:Feria del libro Getafe
DESCRIPTION:
URL:https://www.jesuspedrohontoriacaballo.es/eventos/feria-del-libro-getafe-3/
LOCATION:Plaza unesco – Getafe\, Plaza unesco\, Getafe\, Madrid\, Spain
ATTACH;FMTTYPE=image/jpeg:https://www.jesuspedrohontoriacaballo.es/wp-content/uploads/2025/10/feria-del-libro-getafe-jesus-hontoria.jpeg
END:VEVENT
BEGIN:VEVENT
DTSTART;TZID=UTC:20251017T170000
DTEND;TZID=UTC:20251017T210000
DTSTAMP:20260420T104122
CREATED:20251012T095131Z
LAST-MODIFIED:20251012T095131Z
UID:2295-1760720400-1760734800@www.jesuspedrohontoriacaballo.es
SUMMARY:Feria del libro Getafe
DESCRIPTION:
URL:https://www.jesuspedrohontoriacaballo.es/eventos/feria-del-libro-getafe-2/
LOCATION:Plaza unesco – Getafe\, Plaza unesco\, Getafe\, Madrid\, Spain
ATTACH;FMTTYPE=image/jpeg:https://www.jesuspedrohontoriacaballo.es/wp-content/uploads/2025/10/feria-del-libro-getafe-jesus-hontoria.jpeg
END:VEVENT
BEGIN:VEVENT
DTSTART;TZID=UTC:20251016T170000
DTEND;TZID=UTC:20251016T210000
DTSTAMP:20260420T104122
CREATED:20251012T095036Z
LAST-MODIFIED:20251012T095036Z
UID:2293-1760634000-1760648400@www.jesuspedrohontoriacaballo.es
SUMMARY:Feria del libro Getafe
DESCRIPTION:
URL:https://www.jesuspedrohontoriacaballo.es/eventos/feria-del-libro-getafe/
LOCATION:Plaza unesco – Getafe\, Plaza unesco\, Getafe\, Madrid\, Spain
ATTACH;FMTTYPE=image/jpeg:https://www.jesuspedrohontoriacaballo.es/wp-content/uploads/2025/10/feria-del-libro-getafe-jesus-hontoria.jpeg
END:VEVENT
BEGIN:VEVENT
DTSTART;TZID=UTC:20251011T110000
DTEND;TZID=UTC:20251011T160000
DTSTAMP:20260420T104122
CREATED:20251012T095415Z
LAST-MODIFIED:20251012T095415Z
UID:2303-1760180400-1760198400@www.jesuspedrohontoriacaballo.es
SUMMARY:II Feria del libro Móstoles
DESCRIPTION:
URL:https://www.jesuspedrohontoriacaballo.es/eventos/ii-feria-del-libro-mostoles/
LOCATION:Plaza del sol – Móstoles\, Plaza del sol\, Móstoles\, Madrid\, Spain
ATTACH;FMTTYPE=image/jpeg:https://www.jesuspedrohontoriacaballo.es/wp-content/uploads/2025/10/feria-del-libro-mostoles-jesus-hontoria.jpeg
END:VEVENT
BEGIN:VEVENT
DTSTART;TZID=UTC:20251005T113000
DTEND;TZID=UTC:20251005T210000
DTSTAMP:20260420T104122
CREATED:20250930T144225Z
LAST-MODIFIED:20250930T144225Z
UID:2281-1759663800-1759698000@www.jesuspedrohontoriacaballo.es
SUMMARY:XVI Feria del libro de Chinchón
DESCRIPTION:
URL:https://www.jesuspedrohontoriacaballo.es/eventos/xvi-feria-del-libro-de-chinchon-2/
LOCATION:Plaza mayor – Chinchón\, Plaza mayor\, Chinchón\, Madrid\, 28370\, Spain
ATTACH;FMTTYPE=image/jpeg:https://www.jesuspedrohontoriacaballo.es/wp-content/uploads/2025/09/feria-del-libro-chinchon-jesus-hontoria.jpeg
END:VEVENT
BEGIN:VEVENT
DTSTART;TZID=UTC:20251004T113000
DTEND;TZID=UTC:20251004T210000
DTSTAMP:20260420T104122
CREATED:20250930T144046Z
LAST-MODIFIED:20250930T144135Z
UID:2277-1759577400-1759611600@www.jesuspedrohontoriacaballo.es
SUMMARY:XVI Feria del libro de Chinchón
DESCRIPTION:
URL:https://www.jesuspedrohontoriacaballo.es/eventos/xvi-feria-del-libro-de-chinchon/
LOCATION:Plaza mayor – Chinchón\, Plaza mayor\, Chinchón\, Madrid\, 28370\, Spain
ATTACH;FMTTYPE=image/jpeg:https://www.jesuspedrohontoriacaballo.es/wp-content/uploads/2025/09/feria-del-libro-chinchon-jesus-hontoria.jpeg
END:VEVENT
BEGIN:VEVENT
DTSTART;TZID=UTC:20251003T110000
DTEND;TZID=UTC:20251003T210000
DTSTAMP:20260420T104122
CREATED:20250930T144440Z
LAST-MODIFIED:20250930T144440Z
UID:2284-1759489200-1759525200@www.jesuspedrohontoriacaballo.es
SUMMARY:Feria del libro de Navalcarnero
DESCRIPTION:Horario: 11:00 a 14:00 y de 17:00 a 21:00
URL:https://www.jesuspedrohontoriacaballo.es/eventos/feria-del-libro-de-navalcarnero/
LOCATION:Plaza de Segovia – Navalcarnero\, Plaza de Segovia\, Navalcarnero\, Madrid\, 28600\, Spain
ATTACH;FMTTYPE=image/jpeg:https://www.jesuspedrohontoriacaballo.es/wp-content/uploads/2025/09/feria-del-libro-navalcarnero-jesus-hontoria.jpeg
END:VEVENT
BEGIN:VEVENT
DTSTART;TZID=UTC:20250921T110000
DTEND;TZID=UTC:20250921T140000
DTSTAMP:20260420T104122
CREATED:20250909T133710Z
LAST-MODIFIED:20250909T133710Z
UID:2269-1758452400-1758463200@www.jesuspedrohontoriacaballo.es
SUMMARY:Feria del libro Alcobendas
DESCRIPTION:
URL:https://www.jesuspedrohontoriacaballo.es/eventos/feria-del-libro-alcobendas-5/
LOCATION:Paseo del arte – Alcobendas\, Calle Constitución\, Alcobendas\, Madrid\, Spain
ATTACH;FMTTYPE=image/jpeg:https://www.jesuspedrohontoriacaballo.es/wp-content/uploads/2025/09/abdc8d51-7011-4b86-b97b-adf8100fc31c.jpeg
END:VEVENT
BEGIN:VEVENT
DTSTART;TZID=UTC:20250823T090000
DTEND;TZID=UTC:20250823T210000
DTSTAMP:20260420T104122
CREATED:20250803T095813Z
LAST-MODIFIED:20250803T095813Z
UID:2259-1755939600-1755982800@www.jesuspedrohontoriacaballo.es
SUMMARY:Feria Languilla
DESCRIPTION:
URL:https://www.jesuspedrohontoriacaballo.es/eventos/feria-languilla/
LOCATION:Languilla\, Languilla\, Segovia
END:VEVENT
BEGIN:VEVENT
DTSTART;TZID=UTC:20250628T120000
DTEND;TZID=UTC:20250628T200000
DTSTAMP:20260420T104122
CREATED:20250624T053459Z
LAST-MODIFIED:20250624T053512Z
UID:2210-1751112000-1751140800@www.jesuspedrohontoriacaballo.es
SUMMARY:Feria de auto publicación
DESCRIPTION:
URL:https://www.jesuspedrohontoriacaballo.es/eventos/feria-de-autopublicacion/
LOCATION:Calle Cervantes – Madrid\, Calle de Cervantes\,10\, Madrid\, Madrid\, 28014\, Spain
ATTACH;FMTTYPE=image/jpeg:https://www.jesuspedrohontoriacaballo.es/wp-content/uploads/2025/06/WhatsApp-Image-2025-06-18-at-22.32.56.jpeg
END:VEVENT
BEGIN:VEVENT
DTSTART;TZID=UTC:20250621T110000
DTEND;TZID=UTC:20250622T213000
DTSTAMP:20260420T104122
CREATED:20250602T062506Z
LAST-MODIFIED:20250620T065425Z
UID:2185-1750503600-1750627800@www.jesuspedrohontoriacaballo.es
SUMMARY:Feria de libro Medinaceli
DESCRIPTION:
URL:https://www.jesuspedrohontoriacaballo.es/eventos/feria-de-libro-medinaceli/
LOCATION:Palacio Ducal – Medinaceli\, Plaza mayor\,4\, medinaceli\, Soria\, 42240\, Spain
ATTACH;FMTTYPE=image/jpeg:https://www.jesuspedrohontoriacaballo.es/wp-content/uploads/2025/06/WhatsApp-Image-2025-06-19-at-19.48.46.jpeg
END:VEVENT
BEGIN:VEVENT
DTSTART;TZID=UTC:20250615T100000
DTEND;TZID=UTC:20250615T140000
DTSTAMP:20260420T104122
CREATED:20250602T061924Z
LAST-MODIFIED:20250602T061924Z
UID:2180-1749981600-1749996000@www.jesuspedrohontoriacaballo.es
SUMMARY:Feria de libro en Sevilla la nueva
DESCRIPTION:
URL:https://www.jesuspedrohontoriacaballo.es/eventos/feria-de-libro-en-sevilla-la-nueva/
LOCATION:Plaza de los arcos – Sevilla la nueva\, Plaza de los arcos\, Sevilla la nueva\, Madrid\, 28609\, Spain
ATTACH;FMTTYPE=image/jpeg:https://www.jesuspedrohontoriacaballo.es/wp-content/uploads/2025/06/WhatsApp-Image-2025-05-31-at-21.25.28.jpeg
END:VEVENT
BEGIN:VEVENT
DTSTART;TZID=UTC:20250614T100000
DTEND;TZID=UTC:20250614T160000
DTSTAMP:20260420T104122
CREATED:20250427T162517Z
LAST-MODIFIED:20250602T061430Z
UID:2117-1749895200-1749916800@www.jesuspedrohontoriacaballo.es
SUMMARY:Feria del libro Navaluenga
DESCRIPTION:
URL:https://www.jesuspedrohontoriacaballo.es/eventos/feria-del-libro-navaluenga/
LOCATION:Polideportivo Francisco Mancebo – Navaluenga\, Calle Juan XXIII\,9-11\, Navaluenga\, Ávila\, 05100\, España
ATTACH;FMTTYPE=image/jpeg:https://www.jesuspedrohontoriacaballo.es/wp-content/uploads/2025/04/WhatsApp-Image-2025-05-30-at-08.32.29.jpeg
END:VEVENT
BEGIN:VEVENT
DTSTART;TZID=UTC:20250525T100000
DTEND;TZID=UTC:20250525T160000
DTSTAMP:20260420T104122
CREATED:20250522T175456Z
LAST-MODIFIED:20250522T175520Z
UID:2166-1748167200-1748188800@www.jesuspedrohontoriacaballo.es
SUMMARY:Feria del libro - Galapagar
DESCRIPTION:
URL:https://www.jesuspedrohontoriacaballo.es/eventos/feria-del-libro-galapagar/
LOCATION:Plaza constitución – Galapagar\, Plaza de la constitución\, Galapagar\, 28260\, Spain
ATTACH;FMTTYPE=image/jpeg:https://www.jesuspedrohontoriacaballo.es/wp-content/uploads/2025/05/Feria-del-libro-galapagar.jpeg
END:VEVENT
BEGIN:VEVENT
DTSTART;TZID=UTC:20250524T110000
DTEND;TZID=UTC:20250524T140000
DTSTAMP:20260420T104122
CREATED:20250427T162057Z
LAST-MODIFIED:20250427T162057Z
UID:2115-1748084400-1748095200@www.jesuspedrohontoriacaballo.es
SUMMARY:Feria del libro Vallecas
DESCRIPTION:
URL:https://www.jesuspedrohontoriacaballo.es/eventos/feria-del-libro-vallecas-4/
LOCATION:Bulevar Peña Gorbea – Puente de vallecas\, Calle de peña gorbea\, Puente de vallecas\, Madrid\, 28053\, España
END:VEVENT
BEGIN:VEVENT
DTSTART;TZID=UTC:20250518T110000
DTEND;TZID=UTC:20250518T140000
DTSTAMP:20260420T104122
CREATED:20250514T194042Z
LAST-MODIFIED:20250514T194042Z
UID:2154-1747566000-1747576800@www.jesuspedrohontoriacaballo.es
SUMMARY:Feria del libro Alcobendas
DESCRIPTION:
URL:https://www.jesuspedrohontoriacaballo.es/eventos/feria-del-libro-alcobendas-4/
LOCATION:Paseo del arte – Alcobendas\, Calle Constitución\, Alcobendas\, Madrid\, Spain
ATTACH;FMTTYPE=image/jpeg:https://www.jesuspedrohontoriacaballo.es/wp-content/uploads/2025/05/3deba3d2-c8eb-4c08-bf54-a97f0cdb583d.jpeg
END:VEVENT
END:VCALENDAR