BEGIN:VCALENDAR
VERSION:2.0
PRODID:-//Jesus P.Hontoria Caballo - ECPv6.15.18//NONSGML v1.0//EN
CALSCALE:GREGORIAN
METHOD:PUBLISH
X-ORIGINAL-URL:https://www.jesuspedrohontoriacaballo.es
X-WR-CALDESC:Eventos para Jesus P.Hontoria Caballo
REFRESH-INTERVAL;VALUE=DURATION:PT1H
X-Robots-Tag:noindex
X-PUBLISHED-TTL:PT1H
BEGIN:VTIMEZONE
TZID:UTC
BEGIN:STANDARD
TZOFFSETFROM:+0000
TZOFFSETTO:+0000
TZNAME:UTC
DTSTART:20240101T000000
END:STANDARD
END:VTIMEZONE
BEGIN:VEVENT
DTSTART;TZID=UTC:20251210T110000
DTEND;TZID=UTC:20251210T210000
DTSTAMP:20260424T135715
CREATED:20251129T092039Z
LAST-MODIFIED:20251129T092039Z
UID:2328-1765364400-1765400400@www.jesuspedrohontoriacaballo.es
SUMMARY:Feria navideña - Móstoles
DESCRIPTION:Horario partido de 11:00 a 14:00 y de 17:00 a 21:00
URL:https://www.jesuspedrohontoriacaballo.es/eventos/feria-navidena-mostoles-5/
LOCATION:Plaza Pradillo – Móstoles\, Plaza Pradillo\, Mostoles\, Madrid\, 28931\, Spain
ATTACH;FMTTYPE=image/jpeg:https://www.jesuspedrohontoriacaballo.es/wp-content/uploads/2025/11/035f2f28-cf49-4f61-8f7a-bf17624f79c7.jpeg
END:VEVENT
END:VCALENDAR